BEGIN:VCALENDAR
VERSION:2.0
PRODID:-//KAMMCO - ECPv6.15.20//NONSGML v1.0//EN
CALSCALE:GREGORIAN
METHOD:PUBLISH
X-WR-CALNAME:KAMMCO
X-ORIGINAL-URL:https://www.kammco.com
X-WR-CALDESC:Events for KAMMCO
REFRESH-INTERVAL;VALUE=DURATION:PT1H
X-Robots-Tag:noindex
X-PUBLISHED-TTL:PT1H
BEGIN:VTIMEZONE
TZID:America/Chicago
BEGIN:DAYLIGHT
TZOFFSETFROM:-0600
TZOFFSETTO:-0500
TZNAME:CDT
DTSTART:20220313T080000
END:DAYLIGHT
BEGIN:STANDARD
TZOFFSETFROM:-0500
TZOFFSETTO:-0600
TZNAME:CST
DTSTART:20221106T070000
END:STANDARD
BEGIN:DAYLIGHT
TZOFFSETFROM:-0600
TZOFFSETTO:-0500
TZNAME:CDT
DTSTART:20230312T080000
END:DAYLIGHT
BEGIN:STANDARD
TZOFFSETFROM:-0500
TZOFFSETTO:-0600
TZNAME:CST
DTSTART:20231105T070000
END:STANDARD
BEGIN:DAYLIGHT
TZOFFSETFROM:-0600
TZOFFSETTO:-0500
TZNAME:CDT
DTSTART:20240310T080000
END:DAYLIGHT
BEGIN:STANDARD
TZOFFSETFROM:-0500
TZOFFSETTO:-0600
TZNAME:CST
DTSTART:20241103T070000
END:STANDARD
END:VTIMEZONE
BEGIN:VEVENT
DTSTART;TZID=America/Chicago:20230405T120000
DTEND;TZID=America/Chicago:20230405T130000
DTSTAMP:20260419T095729
CREATED:20230217T212103Z
LAST-MODIFIED:20230310T182334Z
UID:1255-1680696000-1680699600@www.kammco.com
SUMMARY:Behavioral Health in a Primary Care Setting
DESCRIPTION:Registration\n\n\n\nUse the button below to register for the Wed.\, Apr. 5 webinar. \n\n\n\nRegister Now\n\n\n\n\n\n\n\nPresenters\n\n\n\nKari M. Bruffett\, President and CEO of the Kansas Health Institute \n\n\n\nEric Thomason\, PMHNP\, Vice President of Behavioral Health and Addiction Treatment for Community Health Center of Southeast Kansas \n\n\n\n\n\n\n\nDescription\n\n\n\nNearly one in five U.S. adults has a behavioral health disorder\, and studies confirm what clinicians know from experience: patients with behavioral health diagnoses have higher rates of co-occurring chronic conditions\, including asthma\, diabetes\, and hypertension\, which can complicate their care and affect their lifespan and the quality of their lives. Integrating traditional primary medical and behavioral health care has been demonstrated to promote more accessible and equitable treatment for these complex patients\, but how do you make it work in an environment of increasing needs and growing workforce challenges? \n\n\n\n\n\n\n\nAdditional Information\n\n\n\nThis program is designed as a 1-hour “lunch and learn” webinar for everyone on the healthcare team\, including physicians\, clinic managers\, hospital and facility administrators\, risk managers\, nurses\, long-term care providers\, and other health professionals. \n\n\n\nThere are no continuing education (CE) credits attached to this program. If you’re interested in obtaining CE credits\, visit our Med-IQ Online Learning Center page.
URL:https://www.kammco.com/events/behavioral-health-in-a-primary-care-setting/
ATTACH;FMTTYPE=image/png:https://www.kammco.com/wp-content/uploads/2023/02/spring-education-1.png
END:VEVENT
END:VCALENDAR